BEGIN:VCALENDAR
VERSION:2.0
PRODID:-//Saint Paul&#039;s Episcopal Church - ECPv6.15.20//NONSGML v1.0//EN
CALSCALE:GREGORIAN
METHOD:PUBLISH
X-WR-CALNAME:Saint Paul&#039;s Episcopal Church
X-ORIGINAL-URL:https://stpaulssharpsburg.org
X-WR-CALDESC:Events for Saint Paul&#039;s Episcopal Church
REFRESH-INTERVAL;VALUE=DURATION:PT1H
X-Robots-Tag:noindex
X-PUBLISHED-TTL:PT1H
BEGIN:VTIMEZONE
TZID:America/New_York
BEGIN:DAYLIGHT
TZOFFSETFROM:-0500
TZOFFSETTO:-0400
TZNAME:EDT
DTSTART:20250309T070000
END:DAYLIGHT
BEGIN:STANDARD
TZOFFSETFROM:-0400
TZOFFSETTO:-0500
TZNAME:EST
DTSTART:20251102T060000
END:STANDARD
BEGIN:DAYLIGHT
TZOFFSETFROM:-0500
TZOFFSETTO:-0400
TZNAME:EDT
DTSTART:20260308T070000
END:DAYLIGHT
BEGIN:STANDARD
TZOFFSETFROM:-0400
TZOFFSETTO:-0500
TZNAME:EST
DTSTART:20261101T060000
END:STANDARD
BEGIN:DAYLIGHT
TZOFFSETFROM:-0500
TZOFFSETTO:-0400
TZNAME:EDT
DTSTART:20270314T070000
END:DAYLIGHT
BEGIN:STANDARD
TZOFFSETFROM:-0400
TZOFFSETTO:-0500
TZNAME:EST
DTSTART:20271107T060000
END:STANDARD
END:VTIMEZONE
BEGIN:VEVENT
DTSTART;TZID=America/New_York:20260823T100000
DTEND;TZID=America/New_York:20260823T110000
DTSTAMP:20260423T043547
CREATED:20251008T134207Z
LAST-MODIFIED:20251029T225135Z
UID:10000047-1787479200-1787482800@stpaulssharpsburg.org
SUMMARY:Holy Eucharist
DESCRIPTION:
URL:https://stpaulssharpsburg.org/event/holy-eucharist/2026-08-23/
LOCATION:St. Paul’s Episcopal Church\, 209 West Main Street\, Sharpsburg\, MD\, 21782\, United States
CATEGORIES:Worship
END:VEVENT
BEGIN:VEVENT
DTSTART;TZID=America/New_York:20260823T111500
DTEND;TZID=America/New_York:20260823T121500
DTSTAMP:20260423T043547
CREATED:20251008T134513Z
LAST-MODIFIED:20251029T225134Z
UID:10000077-1787483700-1787487300@stpaulssharpsburg.org
SUMMARY:Coffee Hour
DESCRIPTION:
URL:https://stpaulssharpsburg.org/event/coffee-hour-2/2026-08-23/
LOCATION:St. Paul’s Episcopal Church\, 209 West Main Street\, Sharpsburg\, MD\, 21782\, United States
CATEGORIES:Coffee Hour
END:VEVENT
BEGIN:VEVENT
DTSTART;TZID=America/New_York:20260824T190000
DTEND;TZID=America/New_York:20260824T203000
DTSTAMP:20260423T043547
CREATED:20251211T162116Z
LAST-MODIFIED:20251211T162116Z
UID:10000265-1787598000-1787603400@stpaulssharpsburg.org
SUMMARY:Civil War Lecture Series
DESCRIPTION:Antietam Institute
URL:https://stpaulssharpsburg.org/event/civil-war-lecture-series/2026-08-24/
LOCATION:St. Paul’s Episcopal Church\, 209 West Main Street\, Sharpsburg\, MD\, 21782\, United States
END:VEVENT
BEGIN:VEVENT
DTSTART;TZID=America/New_York:20260825T190000
DTEND;TZID=America/New_York:20260825T200000
DTSTAMP:20260423T043547
CREATED:20251008T134703Z
LAST-MODIFIED:20260106T150511Z
UID:10000139-1787684400-1787688000@stpaulssharpsburg.org
SUMMARY:Bible Study (online)
DESCRIPTION:
URL:https://stpaulssharpsburg.org/event/bible-study-online/2026-08-25/
LOCATION:St. Paul’s Episcopal Church\, 209 West Main Street\, Sharpsburg\, MD\, 21782\, United States
CATEGORIES:Bible Study
END:VEVENT
BEGIN:VEVENT
DTSTART;TZID=America/New_York:20260826T190000
DTEND;TZID=America/New_York:20260826T200000
DTSTAMP:20260423T043547
CREATED:20251008T134744Z
LAST-MODIFIED:20260106T150620Z
UID:10000196-1787770800-1787774400@stpaulssharpsburg.org
SUMMARY:Scout Troop 2119
DESCRIPTION:
URL:https://stpaulssharpsburg.org/event/scout-troop-2119/2026-08-26/
LOCATION:St. Paul’s Episcopal Church\, 209 West Main Street\, Sharpsburg\, MD\, 21782\, United States
CATEGORIES:Scouts
END:VEVENT
BEGIN:VEVENT
DTSTART;TZID=America/New_York:20260827T180000
DTEND;TZID=America/New_York:20260827T200000
DTSTAMP:20260423T043547
CREATED:20251008T134946Z
LAST-MODIFIED:20260124T181914Z
UID:10000229-1787853600-1787860800@stpaulssharpsburg.org
SUMMARY:Historical Society
DESCRIPTION:
URL:https://stpaulssharpsburg.org/event/historical-society/2026-08-27/
LOCATION:St. Paul’s Episcopal Church\, 209 West Main Street\, Sharpsburg\, MD\, 21782\, United States
CATEGORIES:Meeting
END:VEVENT
BEGIN:VEVENT
DTSTART;TZID=America/New_York:20260830T100000
DTEND;TZID=America/New_York:20260830T110000
DTSTAMP:20260423T043547
CREATED:20251008T134207Z
LAST-MODIFIED:20251029T225135Z
UID:10000048-1788084000-1788087600@stpaulssharpsburg.org
SUMMARY:Holy Eucharist
DESCRIPTION:
URL:https://stpaulssharpsburg.org/event/holy-eucharist/2026-08-30/
LOCATION:St. Paul’s Episcopal Church\, 209 West Main Street\, Sharpsburg\, MD\, 21782\, United States
CATEGORIES:Worship
END:VEVENT
BEGIN:VEVENT
DTSTART;TZID=America/New_York:20260831T190000
DTEND;TZID=America/New_York:20260831T203000
DTSTAMP:20260423T043547
CREATED:20251211T162116Z
LAST-MODIFIED:20251211T162116Z
UID:10000266-1788202800-1788208200@stpaulssharpsburg.org
SUMMARY:Civil War Lecture Series
DESCRIPTION:Antietam Institute
URL:https://stpaulssharpsburg.org/event/civil-war-lecture-series/2026-08-31/
LOCATION:St. Paul’s Episcopal Church\, 209 West Main Street\, Sharpsburg\, MD\, 21782\, United States
END:VEVENT
BEGIN:VEVENT
DTSTART;TZID=America/New_York:20260901T190000
DTEND;TZID=America/New_York:20260901T200000
DTSTAMP:20260423T043547
CREATED:20251008T134703Z
LAST-MODIFIED:20260106T150511Z
UID:10000140-1788289200-1788292800@stpaulssharpsburg.org
SUMMARY:Bible Study (online)
DESCRIPTION:
URL:https://stpaulssharpsburg.org/event/bible-study-online/2026-09-01/
LOCATION:St. Paul’s Episcopal Church\, 209 West Main Street\, Sharpsburg\, MD\, 21782\, United States
CATEGORIES:Bible Study
END:VEVENT
BEGIN:VEVENT
DTSTART;TZID=America/New_York:20260902T190000
DTEND;TZID=America/New_York:20260902T200000
DTSTAMP:20260423T043547
CREATED:20251008T134744Z
LAST-MODIFIED:20260106T150620Z
UID:10000197-1788375600-1788379200@stpaulssharpsburg.org
SUMMARY:Scout Troop 2119
DESCRIPTION:
URL:https://stpaulssharpsburg.org/event/scout-troop-2119/2026-09-02/
LOCATION:St. Paul’s Episcopal Church\, 209 West Main Street\, Sharpsburg\, MD\, 21782\, United States
CATEGORIES:Scouts
END:VEVENT
BEGIN:VEVENT
DTSTART;TZID=America/New_York:20260906T100000
DTEND;TZID=America/New_York:20260906T110000
DTSTAMP:20260423T043547
CREATED:20251008T134207Z
LAST-MODIFIED:20251029T225135Z
UID:10000049-1788688800-1788692400@stpaulssharpsburg.org
SUMMARY:Holy Eucharist
DESCRIPTION:
URL:https://stpaulssharpsburg.org/event/holy-eucharist/2026-09-06/
LOCATION:St. Paul’s Episcopal Church\, 209 West Main Street\, Sharpsburg\, MD\, 21782\, United States
CATEGORIES:Worship
END:VEVENT
BEGIN:VEVENT
DTSTART;TZID=America/New_York:20260906T111500
DTEND;TZID=America/New_York:20260906T121500
DTSTAMP:20260423T043547
CREATED:20251008T134610Z
LAST-MODIFIED:20251029T225135Z
UID:10000091-1788693300-1788696900@stpaulssharpsburg.org
SUMMARY:ECW Meeting
DESCRIPTION:
URL:https://stpaulssharpsburg.org/event/ecw-meeting/2026-09-06/
LOCATION:St. Paul’s Episcopal Church\, 209 West Main Street\, Sharpsburg\, MD\, 21782\, United States
CATEGORIES:Meeting
END:VEVENT
BEGIN:VEVENT
DTSTART;TZID=America/New_York:20260908T190000
DTEND;TZID=America/New_York:20260908T200000
DTSTAMP:20260423T043547
CREATED:20251008T134703Z
LAST-MODIFIED:20260106T150511Z
UID:10000141-1788894000-1788897600@stpaulssharpsburg.org
SUMMARY:Bible Study (online)
DESCRIPTION:
URL:https://stpaulssharpsburg.org/event/bible-study-online/2026-09-08/
LOCATION:St. Paul’s Episcopal Church\, 209 West Main Street\, Sharpsburg\, MD\, 21782\, United States
CATEGORIES:Bible Study
END:VEVENT
BEGIN:VEVENT
DTSTART;TZID=America/New_York:20260909T190000
DTEND;TZID=America/New_York:20260909T200000
DTSTAMP:20260423T043547
CREATED:20251008T134744Z
LAST-MODIFIED:20260106T150620Z
UID:10000198-1788980400-1788984000@stpaulssharpsburg.org
SUMMARY:Scout Troop 2119
DESCRIPTION:
URL:https://stpaulssharpsburg.org/event/scout-troop-2119/2026-09-09/
LOCATION:St. Paul’s Episcopal Church\, 209 West Main Street\, Sharpsburg\, MD\, 21782\, United States
CATEGORIES:Scouts
END:VEVENT
BEGIN:VEVENT
DTSTART;TZID=America/New_York:20260913T100000
DTEND;TZID=America/New_York:20260913T110000
DTSTAMP:20260423T043547
CREATED:20251008T134207Z
LAST-MODIFIED:20251029T225135Z
UID:10000050-1789293600-1789297200@stpaulssharpsburg.org
SUMMARY:Holy Eucharist
DESCRIPTION:
URL:https://stpaulssharpsburg.org/event/holy-eucharist/2026-09-13/
LOCATION:St. Paul’s Episcopal Church\, 209 West Main Street\, Sharpsburg\, MD\, 21782\, United States
CATEGORIES:Worship
END:VEVENT
BEGIN:VEVENT
DTSTART;TZID=America/New_York:20260913T111500
DTEND;TZID=America/New_York:20260913T121500
DTSTAMP:20260423T043547
CREATED:20251008T134410Z
LAST-MODIFIED:20251029T225135Z
UID:10000065-1789298100-1789301700@stpaulssharpsburg.org
SUMMARY:Coffee Hour
DESCRIPTION:
URL:https://stpaulssharpsburg.org/event/coffee-hour/2026-09-13/
LOCATION:St. Paul’s Episcopal Church\, 209 West Main Street\, Sharpsburg\, MD\, 21782\, United States
CATEGORIES:Coffee Hour
END:VEVENT
BEGIN:VEVENT
DTSTART;TZID=America/New_York:20260915T190000
DTEND;TZID=America/New_York:20260915T200000
DTSTAMP:20260423T043547
CREATED:20251008T134703Z
LAST-MODIFIED:20260106T150511Z
UID:10000142-1789498800-1789502400@stpaulssharpsburg.org
SUMMARY:Bible Study (online)
DESCRIPTION:
URL:https://stpaulssharpsburg.org/event/bible-study-online/2026-09-15/
LOCATION:St. Paul’s Episcopal Church\, 209 West Main Street\, Sharpsburg\, MD\, 21782\, United States
CATEGORIES:Bible Study
END:VEVENT
BEGIN:VEVENT
DTSTART;TZID=America/New_York:20260916T190000
DTEND;TZID=America/New_York:20260916T200000
DTSTAMP:20260423T043547
CREATED:20251008T134744Z
LAST-MODIFIED:20260106T150620Z
UID:10000199-1789585200-1789588800@stpaulssharpsburg.org
SUMMARY:Scout Troop 2119
DESCRIPTION:
URL:https://stpaulssharpsburg.org/event/scout-troop-2119/2026-09-16/
LOCATION:St. Paul’s Episcopal Church\, 209 West Main Street\, Sharpsburg\, MD\, 21782\, United States
CATEGORIES:Scouts
END:VEVENT
BEGIN:VEVENT
DTSTART;TZID=America/New_York:20260920T100000
DTEND;TZID=America/New_York:20260920T110000
DTSTAMP:20260423T043547
CREATED:20251008T134207Z
LAST-MODIFIED:20251029T225135Z
UID:10000051-1789898400-1789902000@stpaulssharpsburg.org
SUMMARY:Holy Eucharist
DESCRIPTION:
URL:https://stpaulssharpsburg.org/event/holy-eucharist/2026-09-20/
LOCATION:St. Paul’s Episcopal Church\, 209 West Main Street\, Sharpsburg\, MD\, 21782\, United States
CATEGORIES:Worship
END:VEVENT
BEGIN:VEVENT
DTSTART;TZID=America/New_York:20260920T113000
DTEND;TZID=America/New_York:20260920T123000
DTSTAMP:20260423T043547
CREATED:20251008T134848Z
LAST-MODIFIED:20251029T225135Z
UID:10000217-1789903800-1789907400@stpaulssharpsburg.org
SUMMARY:Vestry Meeting
DESCRIPTION:
URL:https://stpaulssharpsburg.org/event/vestry-meeting/2026-09-20/
LOCATION:St. Paul’s Episcopal Church\, 209 West Main Street\, Sharpsburg\, MD\, 21782\, United States
CATEGORIES:Meeting
END:VEVENT
BEGIN:VEVENT
DTSTART;TZID=America/New_York:20260922T190000
DTEND;TZID=America/New_York:20260922T200000
DTSTAMP:20260423T043547
CREATED:20251008T134703Z
LAST-MODIFIED:20260106T150511Z
UID:10000143-1790103600-1790107200@stpaulssharpsburg.org
SUMMARY:Bible Study (online)
DESCRIPTION:
URL:https://stpaulssharpsburg.org/event/bible-study-online/2026-09-22/
LOCATION:St. Paul’s Episcopal Church\, 209 West Main Street\, Sharpsburg\, MD\, 21782\, United States
CATEGORIES:Bible Study
END:VEVENT
BEGIN:VEVENT
DTSTART;TZID=America/New_York:20260923T190000
DTEND;TZID=America/New_York:20260923T200000
DTSTAMP:20260423T043547
CREATED:20251008T134744Z
LAST-MODIFIED:20260106T150620Z
UID:10000200-1790190000-1790193600@stpaulssharpsburg.org
SUMMARY:Scout Troop 2119
DESCRIPTION:
URL:https://stpaulssharpsburg.org/event/scout-troop-2119/2026-09-23/
LOCATION:St. Paul’s Episcopal Church\, 209 West Main Street\, Sharpsburg\, MD\, 21782\, United States
CATEGORIES:Scouts
END:VEVENT
BEGIN:VEVENT
DTSTART;TZID=America/New_York:20260924T180000
DTEND;TZID=America/New_York:20260924T200000
DTSTAMP:20260423T043547
CREATED:20251008T134946Z
LAST-MODIFIED:20260124T181914Z
UID:10000230-1790272800-1790280000@stpaulssharpsburg.org
SUMMARY:Historical Society
DESCRIPTION:
URL:https://stpaulssharpsburg.org/event/historical-society/2026-09-24/
LOCATION:St. Paul’s Episcopal Church\, 209 West Main Street\, Sharpsburg\, MD\, 21782\, United States
CATEGORIES:Meeting
END:VEVENT
BEGIN:VEVENT
DTSTART;TZID=America/New_York:20260927T100000
DTEND;TZID=America/New_York:20260927T110000
DTSTAMP:20260423T043547
CREATED:20251008T134207Z
LAST-MODIFIED:20251029T225135Z
UID:10000052-1790503200-1790506800@stpaulssharpsburg.org
SUMMARY:Holy Eucharist
DESCRIPTION:
URL:https://stpaulssharpsburg.org/event/holy-eucharist/2026-09-27/
LOCATION:St. Paul’s Episcopal Church\, 209 West Main Street\, Sharpsburg\, MD\, 21782\, United States
CATEGORIES:Worship
END:VEVENT
BEGIN:VEVENT
DTSTART;TZID=America/New_York:20260927T111500
DTEND;TZID=America/New_York:20260927T121500
DTSTAMP:20260423T043547
CREATED:20251008T134513Z
LAST-MODIFIED:20251029T225134Z
UID:10000078-1790507700-1790511300@stpaulssharpsburg.org
SUMMARY:Coffee Hour
DESCRIPTION:
URL:https://stpaulssharpsburg.org/event/coffee-hour-2/2026-09-27/
LOCATION:St. Paul’s Episcopal Church\, 209 West Main Street\, Sharpsburg\, MD\, 21782\, United States
CATEGORIES:Coffee Hour
END:VEVENT
BEGIN:VEVENT
DTSTART;TZID=America/New_York:20260929T190000
DTEND;TZID=America/New_York:20260929T200000
DTSTAMP:20260423T043547
CREATED:20251008T134703Z
LAST-MODIFIED:20260106T150511Z
UID:10000144-1790708400-1790712000@stpaulssharpsburg.org
SUMMARY:Bible Study (online)
DESCRIPTION:
URL:https://stpaulssharpsburg.org/event/bible-study-online/2026-09-29/
LOCATION:St. Paul’s Episcopal Church\, 209 West Main Street\, Sharpsburg\, MD\, 21782\, United States
CATEGORIES:Bible Study
END:VEVENT
BEGIN:VEVENT
DTSTART;TZID=America/New_York:20260930T190000
DTEND;TZID=America/New_York:20260930T200000
DTSTAMP:20260423T043547
CREATED:20251008T134744Z
LAST-MODIFIED:20260106T150620Z
UID:10000201-1790794800-1790798400@stpaulssharpsburg.org
SUMMARY:Scout Troop 2119
DESCRIPTION:
URL:https://stpaulssharpsburg.org/event/scout-troop-2119/2026-09-30/
LOCATION:St. Paul’s Episcopal Church\, 209 West Main Street\, Sharpsburg\, MD\, 21782\, United States
CATEGORIES:Scouts
END:VEVENT
BEGIN:VEVENT
DTSTART;TZID=America/New_York:20261004T100000
DTEND;TZID=America/New_York:20261004T110000
DTSTAMP:20260423T043547
CREATED:20251008T134207Z
LAST-MODIFIED:20251029T225135Z
UID:10000053-1791108000-1791111600@stpaulssharpsburg.org
SUMMARY:Holy Eucharist
DESCRIPTION:
URL:https://stpaulssharpsburg.org/event/holy-eucharist/2026-10-04/
LOCATION:St. Paul’s Episcopal Church\, 209 West Main Street\, Sharpsburg\, MD\, 21782\, United States
CATEGORIES:Worship
END:VEVENT
BEGIN:VEVENT
DTSTART;TZID=America/New_York:20261004T111500
DTEND;TZID=America/New_York:20261004T121500
DTSTAMP:20260423T043547
CREATED:20251008T134610Z
LAST-MODIFIED:20251029T225135Z
UID:10000092-1791112500-1791116100@stpaulssharpsburg.org
SUMMARY:ECW Meeting
DESCRIPTION:
URL:https://stpaulssharpsburg.org/event/ecw-meeting/2026-10-04/
LOCATION:St. Paul’s Episcopal Church\, 209 West Main Street\, Sharpsburg\, MD\, 21782\, United States
CATEGORIES:Meeting
END:VEVENT
BEGIN:VEVENT
DTSTART;TZID=America/New_York:20261006T190000
DTEND;TZID=America/New_York:20261006T200000
DTSTAMP:20260423T043547
CREATED:20251008T134703Z
LAST-MODIFIED:20260106T150511Z
UID:10000145-1791313200-1791316800@stpaulssharpsburg.org
SUMMARY:Bible Study (online)
DESCRIPTION:
URL:https://stpaulssharpsburg.org/event/bible-study-online/2026-10-06/
LOCATION:St. Paul’s Episcopal Church\, 209 West Main Street\, Sharpsburg\, MD\, 21782\, United States
CATEGORIES:Bible Study
END:VEVENT
END:VCALENDAR