BEGIN:VCALENDAR
VERSION:2.0
PRODID:-//Saint Paul&#039;s Episcopal Church - ECPv6.15.20//NONSGML v1.0//EN
CALSCALE:GREGORIAN
METHOD:PUBLISH
X-WR-CALNAME:Saint Paul&#039;s Episcopal Church
X-ORIGINAL-URL:https://stpaulssharpsburg.org
X-WR-CALDESC:Events for Saint Paul&#039;s Episcopal Church
REFRESH-INTERVAL;VALUE=DURATION:PT1H
X-Robots-Tag:noindex
X-PUBLISHED-TTL:PT1H
BEGIN:VTIMEZONE
TZID:America/New_York
BEGIN:DAYLIGHT
TZOFFSETFROM:-0500
TZOFFSETTO:-0400
TZNAME:EDT
DTSTART:20250309T070000
END:DAYLIGHT
BEGIN:STANDARD
TZOFFSETFROM:-0400
TZOFFSETTO:-0500
TZNAME:EST
DTSTART:20251102T060000
END:STANDARD
BEGIN:DAYLIGHT
TZOFFSETFROM:-0500
TZOFFSETTO:-0400
TZNAME:EDT
DTSTART:20260308T070000
END:DAYLIGHT
BEGIN:STANDARD
TZOFFSETFROM:-0400
TZOFFSETTO:-0500
TZNAME:EST
DTSTART:20261101T060000
END:STANDARD
BEGIN:DAYLIGHT
TZOFFSETFROM:-0500
TZOFFSETTO:-0400
TZNAME:EDT
DTSTART:20270314T070000
END:DAYLIGHT
BEGIN:STANDARD
TZOFFSETFROM:-0400
TZOFFSETTO:-0500
TZNAME:EST
DTSTART:20271107T060000
END:STANDARD
END:VTIMEZONE
BEGIN:VEVENT
DTSTART;TZID=America/New_York:20260616T190000
DTEND;TZID=America/New_York:20260616T200000
DTSTAMP:20260423T034153
CREATED:20251008T134703Z
LAST-MODIFIED:20260106T150511Z
UID:10000129-1781636400-1781640000@stpaulssharpsburg.org
SUMMARY:Bible Study (online)
DESCRIPTION:
URL:https://stpaulssharpsburg.org/event/bible-study-online/2026-06-16/
LOCATION:St. Paul’s Episcopal Church\, 209 West Main Street\, Sharpsburg\, MD\, 21782\, United States
CATEGORIES:Bible Study
END:VEVENT
BEGIN:VEVENT
DTSTART;TZID=America/New_York:20260615T190000
DTEND;TZID=America/New_York:20260615T203000
DTSTAMP:20260423T034153
CREATED:20251211T162116Z
LAST-MODIFIED:20251211T162116Z
UID:10000255-1781550000-1781555400@stpaulssharpsburg.org
SUMMARY:Civil War Lecture Series
DESCRIPTION:Antietam Institute
URL:https://stpaulssharpsburg.org/event/civil-war-lecture-series/2026-06-15/
LOCATION:St. Paul’s Episcopal Church\, 209 West Main Street\, Sharpsburg\, MD\, 21782\, United States
END:VEVENT
BEGIN:VEVENT
DTSTART;TZID=America/New_York:20260614T111500
DTEND;TZID=America/New_York:20260614T121500
DTSTAMP:20260423T034153
CREATED:20251008T134410Z
LAST-MODIFIED:20251029T225135Z
UID:10000062-1781435700-1781439300@stpaulssharpsburg.org
SUMMARY:Coffee Hour
DESCRIPTION:
URL:https://stpaulssharpsburg.org/event/coffee-hour/2026-06-14/
LOCATION:St. Paul’s Episcopal Church\, 209 West Main Street\, Sharpsburg\, MD\, 21782\, United States
CATEGORIES:Coffee Hour
END:VEVENT
BEGIN:VEVENT
DTSTART;TZID=America/New_York:20260614T100000
DTEND;TZID=America/New_York:20260614T110000
DTSTAMP:20260423T034153
CREATED:20251008T134207Z
LAST-MODIFIED:20251029T225135Z
UID:10000037-1781431200-1781434800@stpaulssharpsburg.org
SUMMARY:Holy Eucharist
DESCRIPTION:
URL:https://stpaulssharpsburg.org/event/holy-eucharist/2026-06-14/
LOCATION:St. Paul’s Episcopal Church\, 209 West Main Street\, Sharpsburg\, MD\, 21782\, United States
CATEGORIES:Worship
END:VEVENT
BEGIN:VEVENT
DTSTART;TZID=America/New_York:20260610T190000
DTEND;TZID=America/New_York:20260610T200000
DTSTAMP:20260423T034153
CREATED:20251008T134744Z
LAST-MODIFIED:20260106T150620Z
UID:10000185-1781118000-1781121600@stpaulssharpsburg.org
SUMMARY:Scout Troop 2119
DESCRIPTION:
URL:https://stpaulssharpsburg.org/event/scout-troop-2119/2026-06-10/
LOCATION:St. Paul’s Episcopal Church\, 209 West Main Street\, Sharpsburg\, MD\, 21782\, United States
CATEGORIES:Scouts
END:VEVENT
BEGIN:VEVENT
DTSTART;TZID=America/New_York:20260609T190000
DTEND;TZID=America/New_York:20260609T200000
DTSTAMP:20260423T034153
CREATED:20251008T134703Z
LAST-MODIFIED:20260106T150511Z
UID:10000128-1781031600-1781035200@stpaulssharpsburg.org
SUMMARY:Bible Study (online)
DESCRIPTION:
URL:https://stpaulssharpsburg.org/event/bible-study-online/2026-06-09/
LOCATION:St. Paul’s Episcopal Church\, 209 West Main Street\, Sharpsburg\, MD\, 21782\, United States
CATEGORIES:Bible Study
END:VEVENT
BEGIN:VEVENT
DTSTART;TZID=America/New_York:20260608T190000
DTEND;TZID=America/New_York:20260608T203000
DTSTAMP:20260423T034153
CREATED:20251211T162116Z
LAST-MODIFIED:20251211T162116Z
UID:10000254-1780945200-1780950600@stpaulssharpsburg.org
SUMMARY:Civil War Lecture Series
DESCRIPTION:Antietam Institute
URL:https://stpaulssharpsburg.org/event/civil-war-lecture-series/2026-06-08/
LOCATION:St. Paul’s Episcopal Church\, 209 West Main Street\, Sharpsburg\, MD\, 21782\, United States
END:VEVENT
BEGIN:VEVENT
DTSTART;TZID=America/New_York:20260607T111500
DTEND;TZID=America/New_York:20260607T121500
DTSTAMP:20260423T034153
CREATED:20251008T134610Z
LAST-MODIFIED:20251029T225135Z
UID:10000088-1780830900-1780834500@stpaulssharpsburg.org
SUMMARY:ECW Meeting
DESCRIPTION:
URL:https://stpaulssharpsburg.org/event/ecw-meeting/2026-06-07/
LOCATION:St. Paul’s Episcopal Church\, 209 West Main Street\, Sharpsburg\, MD\, 21782\, United States
CATEGORIES:Meeting
END:VEVENT
BEGIN:VEVENT
DTSTART;TZID=America/New_York:20260607T100000
DTEND;TZID=America/New_York:20260607T110000
DTSTAMP:20260423T034153
CREATED:20251008T134207Z
LAST-MODIFIED:20251029T225135Z
UID:10000036-1780826400-1780830000@stpaulssharpsburg.org
SUMMARY:Holy Eucharist
DESCRIPTION:
URL:https://stpaulssharpsburg.org/event/holy-eucharist/2026-06-07/
LOCATION:St. Paul’s Episcopal Church\, 209 West Main Street\, Sharpsburg\, MD\, 21782\, United States
CATEGORIES:Worship
END:VEVENT
BEGIN:VEVENT
DTSTART;TZID=America/New_York:20260603T190000
DTEND;TZID=America/New_York:20260603T200000
DTSTAMP:20260423T034153
CREATED:20251008T134744Z
LAST-MODIFIED:20260106T150620Z
UID:10000184-1780513200-1780516800@stpaulssharpsburg.org
SUMMARY:Scout Troop 2119
DESCRIPTION:
URL:https://stpaulssharpsburg.org/event/scout-troop-2119/2026-06-03/
LOCATION:St. Paul’s Episcopal Church\, 209 West Main Street\, Sharpsburg\, MD\, 21782\, United States
CATEGORIES:Scouts
END:VEVENT
BEGIN:VEVENT
DTSTART;TZID=America/New_York:20260602T190000
DTEND;TZID=America/New_York:20260602T200000
DTSTAMP:20260423T034153
CREATED:20251008T134703Z
LAST-MODIFIED:20260106T150511Z
UID:10000127-1780426800-1780430400@stpaulssharpsburg.org
SUMMARY:Bible Study (online)
DESCRIPTION:
URL:https://stpaulssharpsburg.org/event/bible-study-online/2026-06-02/
LOCATION:St. Paul’s Episcopal Church\, 209 West Main Street\, Sharpsburg\, MD\, 21782\, United States
CATEGORIES:Bible Study
END:VEVENT
BEGIN:VEVENT
DTSTART;TZID=America/New_York:20260601T190000
DTEND;TZID=America/New_York:20260601T203000
DTSTAMP:20260423T034153
CREATED:20251211T162116Z
LAST-MODIFIED:20251211T162116Z
UID:10000253-1780340400-1780345800@stpaulssharpsburg.org
SUMMARY:Civil War Lecture Series
DESCRIPTION:Antietam Institute
URL:https://stpaulssharpsburg.org/event/civil-war-lecture-series/2026-06-01/
LOCATION:St. Paul’s Episcopal Church\, 209 West Main Street\, Sharpsburg\, MD\, 21782\, United States
END:VEVENT
BEGIN:VEVENT
DTSTART;TZID=America/New_York:20260531T100000
DTEND;TZID=America/New_York:20260531T110000
DTSTAMP:20260423T034153
CREATED:20251008T134207Z
LAST-MODIFIED:20251029T225135Z
UID:10000035-1780221600-1780225200@stpaulssharpsburg.org
SUMMARY:Holy Eucharist
DESCRIPTION:
URL:https://stpaulssharpsburg.org/event/holy-eucharist/2026-05-31/
LOCATION:St. Paul’s Episcopal Church\, 209 West Main Street\, Sharpsburg\, MD\, 21782\, United States
CATEGORIES:Worship
END:VEVENT
BEGIN:VEVENT
DTSTART;TZID=America/New_York:20260528T180000
DTEND;TZID=America/New_York:20260528T200000
DTSTAMP:20260423T034153
CREATED:20251008T134946Z
LAST-MODIFIED:20260124T181914Z
UID:10000226-1779991200-1779998400@stpaulssharpsburg.org
SUMMARY:Historical Society
DESCRIPTION:
URL:https://stpaulssharpsburg.org/event/historical-society/2026-05-28/
LOCATION:St. Paul’s Episcopal Church\, 209 West Main Street\, Sharpsburg\, MD\, 21782\, United States
CATEGORIES:Meeting
END:VEVENT
BEGIN:VEVENT
DTSTART;TZID=America/New_York:20260527T190000
DTEND;TZID=America/New_York:20260527T200000
DTSTAMP:20260423T034153
CREATED:20251008T134744Z
LAST-MODIFIED:20260106T150620Z
UID:10000183-1779908400-1779912000@stpaulssharpsburg.org
SUMMARY:Scout Troop 2119
DESCRIPTION:
URL:https://stpaulssharpsburg.org/event/scout-troop-2119/2026-05-27/
LOCATION:St. Paul’s Episcopal Church\, 209 West Main Street\, Sharpsburg\, MD\, 21782\, United States
CATEGORIES:Scouts
END:VEVENT
BEGIN:VEVENT
DTSTART;TZID=America/New_York:20260526T190000
DTEND;TZID=America/New_York:20260526T200000
DTSTAMP:20260423T034153
CREATED:20251008T134703Z
LAST-MODIFIED:20260106T150511Z
UID:10000126-1779822000-1779825600@stpaulssharpsburg.org
SUMMARY:Bible Study (online)
DESCRIPTION:
URL:https://stpaulssharpsburg.org/event/bible-study-online/2026-05-26/
LOCATION:St. Paul’s Episcopal Church\, 209 West Main Street\, Sharpsburg\, MD\, 21782\, United States
CATEGORIES:Bible Study
END:VEVENT
BEGIN:VEVENT
DTSTART;TZID=America/New_York:20260524T133000
DTEND;TZID=America/New_York:20260524T180000
DTSTAMP:20260423T034153
CREATED:20260401T151721Z
LAST-MODIFIED:20260401T151721Z
UID:10000279-1779629400-1779645600@stpaulssharpsburg.org
SUMMARY:Reserved for Private Event
DESCRIPTION:
URL:https://stpaulssharpsburg.org/event/reserved-for-private-event/
LOCATION:St. Paul’s Episcopal Church\, 209 West Main Street\, Sharpsburg\, MD\, 21782\, United States
END:VEVENT
BEGIN:VEVENT
DTSTART;TZID=America/New_York:20260524T111500
DTEND;TZID=America/New_York:20260524T121500
DTSTAMP:20260423T034153
CREATED:20251008T134513Z
LAST-MODIFIED:20251029T225134Z
UID:10000074-1779621300-1779624900@stpaulssharpsburg.org
SUMMARY:Coffee Hour
DESCRIPTION:
URL:https://stpaulssharpsburg.org/event/coffee-hour-2/2026-05-24/
LOCATION:St. Paul’s Episcopal Church\, 209 West Main Street\, Sharpsburg\, MD\, 21782\, United States
CATEGORIES:Coffee Hour
END:VEVENT
BEGIN:VEVENT
DTSTART;TZID=America/New_York:20260524T100000
DTEND;TZID=America/New_York:20260524T110000
DTSTAMP:20260423T034153
CREATED:20251008T134207Z
LAST-MODIFIED:20251029T225135Z
UID:10000034-1779616800-1779620400@stpaulssharpsburg.org
SUMMARY:Holy Eucharist
DESCRIPTION:
URL:https://stpaulssharpsburg.org/event/holy-eucharist/2026-05-24/
LOCATION:St. Paul’s Episcopal Church\, 209 West Main Street\, Sharpsburg\, MD\, 21782\, United States
CATEGORIES:Worship
END:VEVENT
BEGIN:VEVENT
DTSTART;TZID=America/New_York:20260523T080000
DTEND;TZID=America/New_York:20260523T160000
DTSTAMP:20260423T034153
CREATED:20260414T141245Z
LAST-MODIFIED:20260414T141245Z
UID:10000282-1779523200-1779552000@stpaulssharpsburg.org
SUMMARY:Memorial Day Parade
DESCRIPTION:
URL:https://stpaulssharpsburg.org/event/memorial-day-parade/
LOCATION:St. Paul’s Episcopal Church\, 209 West Main Street\, Sharpsburg\, MD\, 21782\, United States
END:VEVENT
BEGIN:VEVENT
DTSTART;TZID=America/New_York:20260520T190000
DTEND;TZID=America/New_York:20260520T200000
DTSTAMP:20260423T034153
CREATED:20251008T134744Z
LAST-MODIFIED:20260106T150620Z
UID:10000182-1779303600-1779307200@stpaulssharpsburg.org
SUMMARY:Scout Troop 2119
DESCRIPTION:
URL:https://stpaulssharpsburg.org/event/scout-troop-2119/2026-05-20/
LOCATION:St. Paul’s Episcopal Church\, 209 West Main Street\, Sharpsburg\, MD\, 21782\, United States
CATEGORIES:Scouts
END:VEVENT
BEGIN:VEVENT
DTSTART;TZID=America/New_York:20260519T190000
DTEND;TZID=America/New_York:20260519T200000
DTSTAMP:20260423T034153
CREATED:20251008T134703Z
LAST-MODIFIED:20260106T150511Z
UID:10000125-1779217200-1779220800@stpaulssharpsburg.org
SUMMARY:Bible Study (online)
DESCRIPTION:
URL:https://stpaulssharpsburg.org/event/bible-study-online/2026-05-19/
LOCATION:St. Paul’s Episcopal Church\, 209 West Main Street\, Sharpsburg\, MD\, 21782\, United States
CATEGORIES:Bible Study
END:VEVENT
BEGIN:VEVENT
DTSTART;TZID=America/New_York:20260517T113000
DTEND;TZID=America/New_York:20260517T123000
DTSTAMP:20260423T034153
CREATED:20251008T134848Z
LAST-MODIFIED:20251029T225135Z
UID:10000213-1779017400-1779021000@stpaulssharpsburg.org
SUMMARY:Vestry Meeting
DESCRIPTION:
URL:https://stpaulssharpsburg.org/event/vestry-meeting/2026-05-17/
LOCATION:St. Paul’s Episcopal Church\, 209 West Main Street\, Sharpsburg\, MD\, 21782\, United States
CATEGORIES:Meeting
END:VEVENT
BEGIN:VEVENT
DTSTART;TZID=America/New_York:20260517T100000
DTEND;TZID=America/New_York:20260517T110000
DTSTAMP:20260423T034153
CREATED:20251008T134207Z
LAST-MODIFIED:20251029T225135Z
UID:10000033-1779012000-1779015600@stpaulssharpsburg.org
SUMMARY:Holy Eucharist
DESCRIPTION:
URL:https://stpaulssharpsburg.org/event/holy-eucharist/2026-05-17/
LOCATION:St. Paul’s Episcopal Church\, 209 West Main Street\, Sharpsburg\, MD\, 21782\, United States
CATEGORIES:Worship
END:VEVENT
BEGIN:VEVENT
DTSTART;TZID=America/New_York:20260516T173000
DTEND;TZID=America/New_York:20260516T193000
DTSTAMP:20260423T034153
CREATED:20260414T141208Z
LAST-MODIFIED:20260414T141208Z
UID:10000281-1778952600-1778959800@stpaulssharpsburg.org
SUMMARY:Community Dinner
DESCRIPTION:
URL:https://stpaulssharpsburg.org/event/community-dinner-2/
LOCATION:St. Paul’s Episcopal Church\, 209 West Main Street\, Sharpsburg\, MD\, 21782\, United States
END:VEVENT
BEGIN:VEVENT
DTSTART;TZID=America/New_York:20260513T190000
DTEND;TZID=America/New_York:20260513T200000
DTSTAMP:20260423T034153
CREATED:20251008T134744Z
LAST-MODIFIED:20260106T150620Z
UID:10000181-1778698800-1778702400@stpaulssharpsburg.org
SUMMARY:Scout Troop 2119
DESCRIPTION:
URL:https://stpaulssharpsburg.org/event/scout-troop-2119/2026-05-13/
LOCATION:St. Paul’s Episcopal Church\, 209 West Main Street\, Sharpsburg\, MD\, 21782\, United States
CATEGORIES:Scouts
END:VEVENT
BEGIN:VEVENT
DTSTART;TZID=America/New_York:20260512T190000
DTEND;TZID=America/New_York:20260512T200000
DTSTAMP:20260423T034153
CREATED:20251008T134703Z
LAST-MODIFIED:20260106T150511Z
UID:10000124-1778612400-1778616000@stpaulssharpsburg.org
SUMMARY:Bible Study (online)
DESCRIPTION:
URL:https://stpaulssharpsburg.org/event/bible-study-online/2026-05-12/
LOCATION:St. Paul’s Episcopal Church\, 209 West Main Street\, Sharpsburg\, MD\, 21782\, United States
CATEGORIES:Bible Study
END:VEVENT
BEGIN:VEVENT
DTSTART;TZID=America/New_York:20260510T111500
DTEND;TZID=America/New_York:20260510T121500
DTSTAMP:20260423T034153
CREATED:20251008T134410Z
LAST-MODIFIED:20251029T225135Z
UID:10000061-1778411700-1778415300@stpaulssharpsburg.org
SUMMARY:Coffee Hour
DESCRIPTION:
URL:https://stpaulssharpsburg.org/event/coffee-hour/2026-05-10/
LOCATION:St. Paul’s Episcopal Church\, 209 West Main Street\, Sharpsburg\, MD\, 21782\, United States
CATEGORIES:Coffee Hour
END:VEVENT
BEGIN:VEVENT
DTSTART;TZID=America/New_York:20260510T100000
DTEND;TZID=America/New_York:20260510T110000
DTSTAMP:20260423T034153
CREATED:20251008T134207Z
LAST-MODIFIED:20251029T225135Z
UID:10000032-1778407200-1778410800@stpaulssharpsburg.org
SUMMARY:Holy Eucharist
DESCRIPTION:
URL:https://stpaulssharpsburg.org/event/holy-eucharist/2026-05-10/
LOCATION:St. Paul’s Episcopal Church\, 209 West Main Street\, Sharpsburg\, MD\, 21782\, United States
CATEGORIES:Worship
END:VEVENT
BEGIN:VEVENT
DTSTART;TZID=America/New_York:20260506T190000
DTEND;TZID=America/New_York:20260506T200000
DTSTAMP:20260423T034153
CREATED:20251008T134744Z
LAST-MODIFIED:20260106T150620Z
UID:10000180-1778094000-1778097600@stpaulssharpsburg.org
SUMMARY:Scout Troop 2119
DESCRIPTION:
URL:https://stpaulssharpsburg.org/event/scout-troop-2119/2026-05-06/
LOCATION:St. Paul’s Episcopal Church\, 209 West Main Street\, Sharpsburg\, MD\, 21782\, United States
CATEGORIES:Scouts
END:VEVENT
END:VCALENDAR