BEGIN:VCALENDAR
VERSION:2.0
PRODID:-//Saint Paul&#039;s Episcopal Church - ECPv6.15.20//NONSGML v1.0//EN
CALSCALE:GREGORIAN
METHOD:PUBLISH
X-WR-CALNAME:Saint Paul&#039;s Episcopal Church
X-ORIGINAL-URL:https://stpaulssharpsburg.org
X-WR-CALDESC:Events for Saint Paul&#039;s Episcopal Church
REFRESH-INTERVAL;VALUE=DURATION:PT1H
X-Robots-Tag:noindex
X-PUBLISHED-TTL:PT1H
BEGIN:VTIMEZONE
TZID:America/New_York
BEGIN:DAYLIGHT
TZOFFSETFROM:-0500
TZOFFSETTO:-0400
TZNAME:EDT
DTSTART:20250309T070000
END:DAYLIGHT
BEGIN:STANDARD
TZOFFSETFROM:-0400
TZOFFSETTO:-0500
TZNAME:EST
DTSTART:20251102T060000
END:STANDARD
BEGIN:DAYLIGHT
TZOFFSETFROM:-0500
TZOFFSETTO:-0400
TZNAME:EDT
DTSTART:20260308T070000
END:DAYLIGHT
BEGIN:STANDARD
TZOFFSETFROM:-0400
TZOFFSETTO:-0500
TZNAME:EST
DTSTART:20261101T060000
END:STANDARD
BEGIN:DAYLIGHT
TZOFFSETFROM:-0500
TZOFFSETTO:-0400
TZNAME:EDT
DTSTART:20270314T070000
END:DAYLIGHT
BEGIN:STANDARD
TZOFFSETFROM:-0400
TZOFFSETTO:-0500
TZNAME:EST
DTSTART:20271107T060000
END:STANDARD
END:VTIMEZONE
BEGIN:VEVENT
DTSTART;TZID=America/New_York:20260705T100000
DTEND;TZID=America/New_York:20260705T110000
DTSTAMP:20260422T201146
CREATED:20251008T134207Z
LAST-MODIFIED:20251029T225135Z
UID:10000040-1783245600-1783249200@stpaulssharpsburg.org
SUMMARY:Holy Eucharist
DESCRIPTION:
URL:https://stpaulssharpsburg.org/event/holy-eucharist/2026-07-05/
LOCATION:St. Paul’s Episcopal Church\, 209 West Main Street\, Sharpsburg\, MD\, 21782\, United States
CATEGORIES:Worship
END:VEVENT
BEGIN:VEVENT
DTSTART;TZID=America/New_York:20260705T111500
DTEND;TZID=America/New_York:20260705T121500
DTSTAMP:20260422T201146
CREATED:20251008T134610Z
LAST-MODIFIED:20251029T225135Z
UID:10000089-1783250100-1783253700@stpaulssharpsburg.org
SUMMARY:ECW Meeting
DESCRIPTION:
URL:https://stpaulssharpsburg.org/event/ecw-meeting/2026-07-05/
LOCATION:St. Paul’s Episcopal Church\, 209 West Main Street\, Sharpsburg\, MD\, 21782\, United States
CATEGORIES:Meeting
END:VEVENT
BEGIN:VEVENT
DTSTART;TZID=America/New_York:20260706T190000
DTEND;TZID=America/New_York:20260706T203000
DTSTAMP:20260422T201146
CREATED:20251211T162116Z
LAST-MODIFIED:20251211T162116Z
UID:10000258-1783364400-1783369800@stpaulssharpsburg.org
SUMMARY:Civil War Lecture Series
DESCRIPTION:Antietam Institute
URL:https://stpaulssharpsburg.org/event/civil-war-lecture-series/2026-07-06/
LOCATION:St. Paul’s Episcopal Church\, 209 West Main Street\, Sharpsburg\, MD\, 21782\, United States
END:VEVENT
BEGIN:VEVENT
DTSTART;TZID=America/New_York:20260707T190000
DTEND;TZID=America/New_York:20260707T200000
DTSTAMP:20260422T201146
CREATED:20251008T134703Z
LAST-MODIFIED:20260106T150511Z
UID:10000132-1783450800-1783454400@stpaulssharpsburg.org
SUMMARY:Bible Study (online)
DESCRIPTION:
URL:https://stpaulssharpsburg.org/event/bible-study-online/2026-07-07/
LOCATION:St. Paul’s Episcopal Church\, 209 West Main Street\, Sharpsburg\, MD\, 21782\, United States
CATEGORIES:Bible Study
END:VEVENT
BEGIN:VEVENT
DTSTART;TZID=America/New_York:20260708T190000
DTEND;TZID=America/New_York:20260708T200000
DTSTAMP:20260422T201146
CREATED:20251008T134744Z
LAST-MODIFIED:20260106T150620Z
UID:10000189-1783537200-1783540800@stpaulssharpsburg.org
SUMMARY:Scout Troop 2119
DESCRIPTION:
URL:https://stpaulssharpsburg.org/event/scout-troop-2119/2026-07-08/
LOCATION:St. Paul’s Episcopal Church\, 209 West Main Street\, Sharpsburg\, MD\, 21782\, United States
CATEGORIES:Scouts
END:VEVENT
BEGIN:VEVENT
DTSTART;TZID=America/New_York:20260712T100000
DTEND;TZID=America/New_York:20260712T110000
DTSTAMP:20260422T201146
CREATED:20251008T134207Z
LAST-MODIFIED:20251029T225135Z
UID:10000041-1783850400-1783854000@stpaulssharpsburg.org
SUMMARY:Holy Eucharist
DESCRIPTION:
URL:https://stpaulssharpsburg.org/event/holy-eucharist/2026-07-12/
LOCATION:St. Paul’s Episcopal Church\, 209 West Main Street\, Sharpsburg\, MD\, 21782\, United States
CATEGORIES:Worship
END:VEVENT
BEGIN:VEVENT
DTSTART;TZID=America/New_York:20260712T111500
DTEND;TZID=America/New_York:20260712T121500
DTSTAMP:20260422T201146
CREATED:20251008T134410Z
LAST-MODIFIED:20251029T225135Z
UID:10000063-1783854900-1783858500@stpaulssharpsburg.org
SUMMARY:Coffee Hour
DESCRIPTION:
URL:https://stpaulssharpsburg.org/event/coffee-hour/2026-07-12/
LOCATION:St. Paul’s Episcopal Church\, 209 West Main Street\, Sharpsburg\, MD\, 21782\, United States
CATEGORIES:Coffee Hour
END:VEVENT
BEGIN:VEVENT
DTSTART;TZID=America/New_York:20260713T190000
DTEND;TZID=America/New_York:20260713T203000
DTSTAMP:20260422T201146
CREATED:20251211T162116Z
LAST-MODIFIED:20251211T162116Z
UID:10000259-1783969200-1783974600@stpaulssharpsburg.org
SUMMARY:Civil War Lecture Series
DESCRIPTION:Antietam Institute
URL:https://stpaulssharpsburg.org/event/civil-war-lecture-series/2026-07-13/
LOCATION:St. Paul’s Episcopal Church\, 209 West Main Street\, Sharpsburg\, MD\, 21782\, United States
END:VEVENT
BEGIN:VEVENT
DTSTART;TZID=America/New_York:20260714T190000
DTEND;TZID=America/New_York:20260714T200000
DTSTAMP:20260422T201146
CREATED:20251008T134703Z
LAST-MODIFIED:20260106T150511Z
UID:10000133-1784055600-1784059200@stpaulssharpsburg.org
SUMMARY:Bible Study (online)
DESCRIPTION:
URL:https://stpaulssharpsburg.org/event/bible-study-online/2026-07-14/
LOCATION:St. Paul’s Episcopal Church\, 209 West Main Street\, Sharpsburg\, MD\, 21782\, United States
CATEGORIES:Bible Study
END:VEVENT
BEGIN:VEVENT
DTSTART;TZID=America/New_York:20260715T190000
DTEND;TZID=America/New_York:20260715T200000
DTSTAMP:20260422T201146
CREATED:20251008T134744Z
LAST-MODIFIED:20260106T150620Z
UID:10000190-1784142000-1784145600@stpaulssharpsburg.org
SUMMARY:Scout Troop 2119
DESCRIPTION:
URL:https://stpaulssharpsburg.org/event/scout-troop-2119/2026-07-15/
LOCATION:St. Paul’s Episcopal Church\, 209 West Main Street\, Sharpsburg\, MD\, 21782\, United States
CATEGORIES:Scouts
END:VEVENT
BEGIN:VEVENT
DTSTART;TZID=America/New_York:20260719T100000
DTEND;TZID=America/New_York:20260719T110000
DTSTAMP:20260422T201146
CREATED:20251008T134207Z
LAST-MODIFIED:20251029T225135Z
UID:10000042-1784455200-1784458800@stpaulssharpsburg.org
SUMMARY:Holy Eucharist
DESCRIPTION:
URL:https://stpaulssharpsburg.org/event/holy-eucharist/2026-07-19/
LOCATION:St. Paul’s Episcopal Church\, 209 West Main Street\, Sharpsburg\, MD\, 21782\, United States
CATEGORIES:Worship
END:VEVENT
BEGIN:VEVENT
DTSTART;TZID=America/New_York:20260719T113000
DTEND;TZID=America/New_York:20260719T123000
DTSTAMP:20260422T201146
CREATED:20251008T134848Z
LAST-MODIFIED:20251029T225135Z
UID:10000215-1784460600-1784464200@stpaulssharpsburg.org
SUMMARY:Vestry Meeting
DESCRIPTION:
URL:https://stpaulssharpsburg.org/event/vestry-meeting/2026-07-19/
LOCATION:St. Paul’s Episcopal Church\, 209 West Main Street\, Sharpsburg\, MD\, 21782\, United States
CATEGORIES:Meeting
END:VEVENT
BEGIN:VEVENT
DTSTART;TZID=America/New_York:20260720T190000
DTEND;TZID=America/New_York:20260720T203000
DTSTAMP:20260422T201146
CREATED:20251211T162116Z
LAST-MODIFIED:20251211T162116Z
UID:10000260-1784574000-1784579400@stpaulssharpsburg.org
SUMMARY:Civil War Lecture Series
DESCRIPTION:Antietam Institute
URL:https://stpaulssharpsburg.org/event/civil-war-lecture-series/2026-07-20/
LOCATION:St. Paul’s Episcopal Church\, 209 West Main Street\, Sharpsburg\, MD\, 21782\, United States
END:VEVENT
BEGIN:VEVENT
DTSTART;TZID=America/New_York:20260721T190000
DTEND;TZID=America/New_York:20260721T200000
DTSTAMP:20260422T201146
CREATED:20251008T134703Z
LAST-MODIFIED:20260106T150511Z
UID:10000134-1784660400-1784664000@stpaulssharpsburg.org
SUMMARY:Bible Study (online)
DESCRIPTION:
URL:https://stpaulssharpsburg.org/event/bible-study-online/2026-07-21/
LOCATION:St. Paul’s Episcopal Church\, 209 West Main Street\, Sharpsburg\, MD\, 21782\, United States
CATEGORIES:Bible Study
END:VEVENT
BEGIN:VEVENT
DTSTART;TZID=America/New_York:20260722T190000
DTEND;TZID=America/New_York:20260722T200000
DTSTAMP:20260422T201146
CREATED:20251008T134744Z
LAST-MODIFIED:20260106T150620Z
UID:10000191-1784746800-1784750400@stpaulssharpsburg.org
SUMMARY:Scout Troop 2119
DESCRIPTION:
URL:https://stpaulssharpsburg.org/event/scout-troop-2119/2026-07-22/
LOCATION:St. Paul’s Episcopal Church\, 209 West Main Street\, Sharpsburg\, MD\, 21782\, United States
CATEGORIES:Scouts
END:VEVENT
BEGIN:VEVENT
DTSTART;TZID=America/New_York:20260723T180000
DTEND;TZID=America/New_York:20260723T200000
DTSTAMP:20260422T201146
CREATED:20251008T134946Z
LAST-MODIFIED:20260124T181914Z
UID:10000228-1784829600-1784836800@stpaulssharpsburg.org
SUMMARY:Historical Society
DESCRIPTION:
URL:https://stpaulssharpsburg.org/event/historical-society/2026-07-23/
LOCATION:St. Paul’s Episcopal Church\, 209 West Main Street\, Sharpsburg\, MD\, 21782\, United States
CATEGORIES:Meeting
END:VEVENT
BEGIN:VEVENT
DTSTART;TZID=America/New_York:20260726T100000
DTEND;TZID=America/New_York:20260726T110000
DTSTAMP:20260422T201146
CREATED:20251008T134207Z
LAST-MODIFIED:20251029T225135Z
UID:10000043-1785060000-1785063600@stpaulssharpsburg.org
SUMMARY:Holy Eucharist
DESCRIPTION:
URL:https://stpaulssharpsburg.org/event/holy-eucharist/2026-07-26/
LOCATION:St. Paul’s Episcopal Church\, 209 West Main Street\, Sharpsburg\, MD\, 21782\, United States
CATEGORIES:Worship
END:VEVENT
BEGIN:VEVENT
DTSTART;TZID=America/New_York:20260726T111500
DTEND;TZID=America/New_York:20260726T121500
DTSTAMP:20260422T201146
CREATED:20251008T134513Z
LAST-MODIFIED:20251029T225134Z
UID:10000076-1785064500-1785068100@stpaulssharpsburg.org
SUMMARY:Coffee Hour
DESCRIPTION:
URL:https://stpaulssharpsburg.org/event/coffee-hour-2/2026-07-26/
LOCATION:St. Paul’s Episcopal Church\, 209 West Main Street\, Sharpsburg\, MD\, 21782\, United States
CATEGORIES:Coffee Hour
END:VEVENT
BEGIN:VEVENT
DTSTART;TZID=America/New_York:20260727T190000
DTEND;TZID=America/New_York:20260727T203000
DTSTAMP:20260422T201146
CREATED:20251211T162116Z
LAST-MODIFIED:20251211T162116Z
UID:10000261-1785178800-1785184200@stpaulssharpsburg.org
SUMMARY:Civil War Lecture Series
DESCRIPTION:Antietam Institute
URL:https://stpaulssharpsburg.org/event/civil-war-lecture-series/2026-07-27/
LOCATION:St. Paul’s Episcopal Church\, 209 West Main Street\, Sharpsburg\, MD\, 21782\, United States
END:VEVENT
BEGIN:VEVENT
DTSTART;TZID=America/New_York:20260728T190000
DTEND;TZID=America/New_York:20260728T200000
DTSTAMP:20260422T201146
CREATED:20251008T134703Z
LAST-MODIFIED:20260106T150511Z
UID:10000135-1785265200-1785268800@stpaulssharpsburg.org
SUMMARY:Bible Study (online)
DESCRIPTION:
URL:https://stpaulssharpsburg.org/event/bible-study-online/2026-07-28/
LOCATION:St. Paul’s Episcopal Church\, 209 West Main Street\, Sharpsburg\, MD\, 21782\, United States
CATEGORIES:Bible Study
END:VEVENT
BEGIN:VEVENT
DTSTART;TZID=America/New_York:20260729T190000
DTEND;TZID=America/New_York:20260729T200000
DTSTAMP:20260422T201146
CREATED:20251008T134744Z
LAST-MODIFIED:20260106T150620Z
UID:10000192-1785351600-1785355200@stpaulssharpsburg.org
SUMMARY:Scout Troop 2119
DESCRIPTION:
URL:https://stpaulssharpsburg.org/event/scout-troop-2119/2026-07-29/
LOCATION:St. Paul’s Episcopal Church\, 209 West Main Street\, Sharpsburg\, MD\, 21782\, United States
CATEGORIES:Scouts
END:VEVENT
BEGIN:VEVENT
DTSTART;TZID=America/New_York:20260802T100000
DTEND;TZID=America/New_York:20260802T110000
DTSTAMP:20260422T201146
CREATED:20251008T134207Z
LAST-MODIFIED:20251029T225135Z
UID:10000044-1785664800-1785668400@stpaulssharpsburg.org
SUMMARY:Holy Eucharist
DESCRIPTION:
URL:https://stpaulssharpsburg.org/event/holy-eucharist/2026-08-02/
LOCATION:St. Paul’s Episcopal Church\, 209 West Main Street\, Sharpsburg\, MD\, 21782\, United States
CATEGORIES:Worship
END:VEVENT
BEGIN:VEVENT
DTSTART;TZID=America/New_York:20260802T111500
DTEND;TZID=America/New_York:20260802T121500
DTSTAMP:20260422T201146
CREATED:20251008T134610Z
LAST-MODIFIED:20251029T225135Z
UID:10000090-1785669300-1785672900@stpaulssharpsburg.org
SUMMARY:ECW Meeting
DESCRIPTION:
URL:https://stpaulssharpsburg.org/event/ecw-meeting/2026-08-02/
LOCATION:St. Paul’s Episcopal Church\, 209 West Main Street\, Sharpsburg\, MD\, 21782\, United States
CATEGORIES:Meeting
END:VEVENT
BEGIN:VEVENT
DTSTART;TZID=America/New_York:20260803T190000
DTEND;TZID=America/New_York:20260803T203000
DTSTAMP:20260422T201146
CREATED:20251211T162116Z
LAST-MODIFIED:20251211T162116Z
UID:10000262-1785783600-1785789000@stpaulssharpsburg.org
SUMMARY:Civil War Lecture Series
DESCRIPTION:Antietam Institute
URL:https://stpaulssharpsburg.org/event/civil-war-lecture-series/2026-08-03/
LOCATION:St. Paul’s Episcopal Church\, 209 West Main Street\, Sharpsburg\, MD\, 21782\, United States
END:VEVENT
BEGIN:VEVENT
DTSTART;TZID=America/New_York:20260804T190000
DTEND;TZID=America/New_York:20260804T200000
DTSTAMP:20260422T201146
CREATED:20251008T134703Z
LAST-MODIFIED:20260106T150511Z
UID:10000136-1785870000-1785873600@stpaulssharpsburg.org
SUMMARY:Bible Study (online)
DESCRIPTION:
URL:https://stpaulssharpsburg.org/event/bible-study-online/2026-08-04/
LOCATION:St. Paul’s Episcopal Church\, 209 West Main Street\, Sharpsburg\, MD\, 21782\, United States
CATEGORIES:Bible Study
END:VEVENT
BEGIN:VEVENT
DTSTART;TZID=America/New_York:20260805T190000
DTEND;TZID=America/New_York:20260805T200000
DTSTAMP:20260422T201146
CREATED:20251008T134744Z
LAST-MODIFIED:20260106T150620Z
UID:10000193-1785956400-1785960000@stpaulssharpsburg.org
SUMMARY:Scout Troop 2119
DESCRIPTION:
URL:https://stpaulssharpsburg.org/event/scout-troop-2119/2026-08-05/
LOCATION:St. Paul’s Episcopal Church\, 209 West Main Street\, Sharpsburg\, MD\, 21782\, United States
CATEGORIES:Scouts
END:VEVENT
BEGIN:VEVENT
DTSTART;TZID=America/New_York:20260809T100000
DTEND;TZID=America/New_York:20260809T110000
DTSTAMP:20260422T201146
CREATED:20251008T134207Z
LAST-MODIFIED:20251029T225135Z
UID:10000045-1786269600-1786273200@stpaulssharpsburg.org
SUMMARY:Holy Eucharist
DESCRIPTION:
URL:https://stpaulssharpsburg.org/event/holy-eucharist/2026-08-09/
LOCATION:St. Paul’s Episcopal Church\, 209 West Main Street\, Sharpsburg\, MD\, 21782\, United States
CATEGORIES:Worship
END:VEVENT
BEGIN:VEVENT
DTSTART;TZID=America/New_York:20260809T111500
DTEND;TZID=America/New_York:20260809T121500
DTSTAMP:20260422T201146
CREATED:20251008T134410Z
LAST-MODIFIED:20251029T225135Z
UID:10000064-1786274100-1786277700@stpaulssharpsburg.org
SUMMARY:Coffee Hour
DESCRIPTION:
URL:https://stpaulssharpsburg.org/event/coffee-hour/2026-08-09/
LOCATION:St. Paul’s Episcopal Church\, 209 West Main Street\, Sharpsburg\, MD\, 21782\, United States
CATEGORIES:Coffee Hour
END:VEVENT
BEGIN:VEVENT
DTSTART;TZID=America/New_York:20260810T190000
DTEND;TZID=America/New_York:20260810T203000
DTSTAMP:20260422T201146
CREATED:20251211T162116Z
LAST-MODIFIED:20251211T162116Z
UID:10000263-1786388400-1786393800@stpaulssharpsburg.org
SUMMARY:Civil War Lecture Series
DESCRIPTION:Antietam Institute
URL:https://stpaulssharpsburg.org/event/civil-war-lecture-series/2026-08-10/
LOCATION:St. Paul’s Episcopal Church\, 209 West Main Street\, Sharpsburg\, MD\, 21782\, United States
END:VEVENT
BEGIN:VEVENT
DTSTART;TZID=America/New_York:20260811T190000
DTEND;TZID=America/New_York:20260811T200000
DTSTAMP:20260422T201146
CREATED:20251008T134703Z
LAST-MODIFIED:20260106T150511Z
UID:10000137-1786474800-1786478400@stpaulssharpsburg.org
SUMMARY:Bible Study (online)
DESCRIPTION:
URL:https://stpaulssharpsburg.org/event/bible-study-online/2026-08-11/
LOCATION:St. Paul’s Episcopal Church\, 209 West Main Street\, Sharpsburg\, MD\, 21782\, United States
CATEGORIES:Bible Study
END:VEVENT
END:VCALENDAR