BEGIN:VCALENDAR
VERSION:2.0
PRODID:-//Saint Paul&#039;s Episcopal Church - ECPv6.15.20//NONSGML v1.0//EN
CALSCALE:GREGORIAN
METHOD:PUBLISH
X-WR-CALNAME:Saint Paul&#039;s Episcopal Church
X-ORIGINAL-URL:https://stpaulssharpsburg.org
X-WR-CALDESC:Events for Saint Paul&#039;s Episcopal Church
REFRESH-INTERVAL;VALUE=DURATION:PT1H
X-Robots-Tag:noindex
X-PUBLISHED-TTL:PT1H
BEGIN:VTIMEZONE
TZID:America/New_York
BEGIN:DAYLIGHT
TZOFFSETFROM:-0500
TZOFFSETTO:-0400
TZNAME:EDT
DTSTART:20240310T070000
END:DAYLIGHT
BEGIN:STANDARD
TZOFFSETFROM:-0400
TZOFFSETTO:-0500
TZNAME:EST
DTSTART:20241103T060000
END:STANDARD
BEGIN:DAYLIGHT
TZOFFSETFROM:-0500
TZOFFSETTO:-0400
TZNAME:EDT
DTSTART:20250309T070000
END:DAYLIGHT
BEGIN:STANDARD
TZOFFSETFROM:-0400
TZOFFSETTO:-0500
TZNAME:EST
DTSTART:20251102T060000
END:STANDARD
BEGIN:DAYLIGHT
TZOFFSETFROM:-0500
TZOFFSETTO:-0400
TZNAME:EDT
DTSTART:20260308T070000
END:DAYLIGHT
BEGIN:STANDARD
TZOFFSETFROM:-0400
TZOFFSETTO:-0500
TZNAME:EST
DTSTART:20261101T060000
END:STANDARD
BEGIN:DAYLIGHT
TZOFFSETFROM:-0500
TZOFFSETTO:-0400
TZNAME:EDT
DTSTART:20270314T070000
END:DAYLIGHT
BEGIN:STANDARD
TZOFFSETFROM:-0400
TZOFFSETTO:-0500
TZNAME:EST
DTSTART:20271107T060000
END:STANDARD
END:VTIMEZONE
BEGIN:VEVENT
DTSTART;TZID=America/New_York:20251127T180000
DTEND;TZID=America/New_York:20251127T200000
DTSTAMP:20260423T013937
CREATED:20251008T134946Z
LAST-MODIFIED:20260124T181914Z
UID:10000220-1764266400-1764273600@stpaulssharpsburg.org
SUMMARY:Historical Society
DESCRIPTION:
URL:https://stpaulssharpsburg.org/event/historical-society/2025-11-27/
LOCATION:St. Paul’s Episcopal Church\, 209 West Main Street\, Sharpsburg\, MD\, 21782\, United States
CATEGORIES:Meeting
END:VEVENT
BEGIN:VEVENT
DTSTART;TZID=America/New_York:20251130T100000
DTEND;TZID=America/New_York:20251130T110000
DTSTAMP:20260423T013937
CREATED:20251008T134207Z
LAST-MODIFIED:20251029T225135Z
UID:10000009-1764496800-1764500400@stpaulssharpsburg.org
SUMMARY:Holy Eucharist
DESCRIPTION:
URL:https://stpaulssharpsburg.org/event/holy-eucharist/2025-11-30/
LOCATION:St. Paul’s Episcopal Church\, 209 West Main Street\, Sharpsburg\, MD\, 21782\, United States
CATEGORIES:Worship
END:VEVENT
BEGIN:VEVENT
DTSTART;TZID=America/New_York:20251202T190000
DTEND;TZID=America/New_York:20251202T200000
DTSTAMP:20260423T013937
CREATED:20251008T134703Z
LAST-MODIFIED:20260106T150511Z
UID:10000101-1764702000-1764705600@stpaulssharpsburg.org
SUMMARY:Bible Study (online)
DESCRIPTION:
URL:https://stpaulssharpsburg.org/event/bible-study-online/2025-12-02/
LOCATION:St. Paul’s Episcopal Church\, 209 West Main Street\, Sharpsburg\, MD\, 21782\, United States
CATEGORIES:Bible Study
END:VEVENT
BEGIN:VEVENT
DTSTART;TZID=America/New_York:20251203T173000
DTEND;TZID=America/New_York:20251203T183000
DTSTAMP:20260423T013937
CREATED:20251111T153310Z
LAST-MODIFIED:20251111T153310Z
UID:10000245-1764783000-1764786600@stpaulssharpsburg.org
SUMMARY:Quiet Prayer Time
DESCRIPTION:St. Paul’s will be open for prayer Wednesdays 5:30-6:30. Stop for quiet devotions or pray with a member of the church\, starts October 8.
URL:https://stpaulssharpsburg.org/event/quiet-prayer-time/2025-12-03/
LOCATION:St. Paul’s Episcopal Church\, 209 West Main Street\, Sharpsburg\, MD\, 21782\, United States
CATEGORIES:Special Events
END:VEVENT
BEGIN:VEVENT
DTSTART;TZID=America/New_York:20251203T190000
DTEND;TZID=America/New_York:20251203T200000
DTSTAMP:20260423T013937
CREATED:20251008T134744Z
LAST-MODIFIED:20260106T150620Z
UID:10000158-1764788400-1764792000@stpaulssharpsburg.org
SUMMARY:Scout Troop 2119
DESCRIPTION:
URL:https://stpaulssharpsburg.org/event/scout-troop-2119/2025-12-03/
LOCATION:St. Paul’s Episcopal Church\, 209 West Main Street\, Sharpsburg\, MD\, 21782\, United States
CATEGORIES:Scouts
END:VEVENT
BEGIN:VEVENT
DTSTART;TZID=America/New_York:20251207T100000
DTEND;TZID=America/New_York:20251207T110000
DTSTAMP:20260423T013937
CREATED:20251008T134207Z
LAST-MODIFIED:20251029T225135Z
UID:10000010-1765101600-1765105200@stpaulssharpsburg.org
SUMMARY:Holy Eucharist
DESCRIPTION:
URL:https://stpaulssharpsburg.org/event/holy-eucharist/2025-12-07/
LOCATION:St. Paul’s Episcopal Church\, 209 West Main Street\, Sharpsburg\, MD\, 21782\, United States
CATEGORIES:Worship
END:VEVENT
BEGIN:VEVENT
DTSTART;TZID=America/New_York:20251207T111500
DTEND;TZID=America/New_York:20251207T121500
DTSTAMP:20260423T013937
CREATED:20251008T134610Z
LAST-MODIFIED:20251029T225135Z
UID:10000082-1765106100-1765109700@stpaulssharpsburg.org
SUMMARY:ECW Meeting
DESCRIPTION:
URL:https://stpaulssharpsburg.org/event/ecw-meeting/2025-12-07/
LOCATION:St. Paul’s Episcopal Church\, 209 West Main Street\, Sharpsburg\, MD\, 21782\, United States
CATEGORIES:Meeting
END:VEVENT
BEGIN:VEVENT
DTSTART;TZID=America/New_York:20251209T190000
DTEND;TZID=America/New_York:20251209T200000
DTSTAMP:20260423T013937
CREATED:20251008T134703Z
LAST-MODIFIED:20260106T150511Z
UID:10000102-1765306800-1765310400@stpaulssharpsburg.org
SUMMARY:Bible Study (online)
DESCRIPTION:
URL:https://stpaulssharpsburg.org/event/bible-study-online/2025-12-09/
LOCATION:St. Paul’s Episcopal Church\, 209 West Main Street\, Sharpsburg\, MD\, 21782\, United States
CATEGORIES:Bible Study
END:VEVENT
BEGIN:VEVENT
DTSTART;TZID=America/New_York:20251210T173000
DTEND;TZID=America/New_York:20251210T183000
DTSTAMP:20260423T013937
CREATED:20251111T153310Z
LAST-MODIFIED:20251111T153310Z
UID:10000246-1765387800-1765391400@stpaulssharpsburg.org
SUMMARY:Quiet Prayer Time
DESCRIPTION:St. Paul’s will be open for prayer Wednesdays 5:30-6:30. Stop for quiet devotions or pray with a member of the church\, starts October 8.
URL:https://stpaulssharpsburg.org/event/quiet-prayer-time/2025-12-10/
LOCATION:St. Paul’s Episcopal Church\, 209 West Main Street\, Sharpsburg\, MD\, 21782\, United States
CATEGORIES:Special Events
END:VEVENT
BEGIN:VEVENT
DTSTART;TZID=America/New_York:20251210T190000
DTEND;TZID=America/New_York:20251210T200000
DTSTAMP:20260423T013937
CREATED:20251008T134744Z
LAST-MODIFIED:20260106T150620Z
UID:10000159-1765393200-1765396800@stpaulssharpsburg.org
SUMMARY:Scout Troop 2119
DESCRIPTION:
URL:https://stpaulssharpsburg.org/event/scout-troop-2119/2025-12-10/
LOCATION:St. Paul’s Episcopal Church\, 209 West Main Street\, Sharpsburg\, MD\, 21782\, United States
CATEGORIES:Scouts
END:VEVENT
BEGIN:VEVENT
DTSTART;TZID=America/New_York:20251214T100000
DTEND;TZID=America/New_York:20251214T110000
DTSTAMP:20260423T013937
CREATED:20251008T134207Z
LAST-MODIFIED:20251029T225135Z
UID:10000011-1765706400-1765710000@stpaulssharpsburg.org
SUMMARY:Holy Eucharist
DESCRIPTION:
URL:https://stpaulssharpsburg.org/event/holy-eucharist/2025-12-14/
LOCATION:St. Paul’s Episcopal Church\, 209 West Main Street\, Sharpsburg\, MD\, 21782\, United States
CATEGORIES:Worship
END:VEVENT
BEGIN:VEVENT
DTSTART;TZID=America/New_York:20251214T111500
DTEND;TZID=America/New_York:20251214T121500
DTSTAMP:20260423T013937
CREATED:20251008T134410Z
LAST-MODIFIED:20251029T225135Z
UID:10000056-1765710900-1765714500@stpaulssharpsburg.org
SUMMARY:Coffee Hour
DESCRIPTION:
URL:https://stpaulssharpsburg.org/event/coffee-hour/2025-12-14/
LOCATION:St. Paul’s Episcopal Church\, 209 West Main Street\, Sharpsburg\, MD\, 21782\, United States
CATEGORIES:Coffee Hour
END:VEVENT
BEGIN:VEVENT
DTSTART;TZID=America/New_York:20251214T123000
DTEND;TZID=America/New_York:20251214T170000
DTSTAMP:20260423T013937
CREATED:20251014T155215Z
LAST-MODIFIED:20251014T155215Z
UID:10000236-1765715400-1765731600@stpaulssharpsburg.org
SUMMARY:Reserved
DESCRIPTION:
URL:https://stpaulssharpsburg.org/event/reserved/
LOCATION:St. Paul’s Episcopal Church\, 209 West Main Street\, Sharpsburg\, MD\, 21782\, United States
CATEGORIES:Special Events
END:VEVENT
BEGIN:VEVENT
DTSTART;TZID=America/New_York:20251216T190000
DTEND;TZID=America/New_York:20251216T200000
DTSTAMP:20260423T013937
CREATED:20251008T134703Z
LAST-MODIFIED:20260106T150511Z
UID:10000103-1765911600-1765915200@stpaulssharpsburg.org
SUMMARY:Bible Study (online)
DESCRIPTION:
URL:https://stpaulssharpsburg.org/event/bible-study-online/2025-12-16/
LOCATION:St. Paul’s Episcopal Church\, 209 West Main Street\, Sharpsburg\, MD\, 21782\, United States
CATEGORIES:Bible Study
END:VEVENT
BEGIN:VEVENT
DTSTART;TZID=America/New_York:20251217T173000
DTEND;TZID=America/New_York:20251217T183000
DTSTAMP:20260423T013937
CREATED:20251111T153310Z
LAST-MODIFIED:20251111T153310Z
UID:10000247-1765992600-1765996200@stpaulssharpsburg.org
SUMMARY:Quiet Prayer Time
DESCRIPTION:St. Paul’s will be open for prayer Wednesdays 5:30-6:30. Stop for quiet devotions or pray with a member of the church\, starts October 8.
URL:https://stpaulssharpsburg.org/event/quiet-prayer-time/2025-12-17/
LOCATION:St. Paul’s Episcopal Church\, 209 West Main Street\, Sharpsburg\, MD\, 21782\, United States
CATEGORIES:Special Events
END:VEVENT
BEGIN:VEVENT
DTSTART;TZID=America/New_York:20251217T190000
DTEND;TZID=America/New_York:20251217T200000
DTSTAMP:20260423T013937
CREATED:20251008T134744Z
LAST-MODIFIED:20260106T150620Z
UID:10000160-1765998000-1766001600@stpaulssharpsburg.org
SUMMARY:Scout Troop 2119
DESCRIPTION:
URL:https://stpaulssharpsburg.org/event/scout-troop-2119/2025-12-17/
LOCATION:St. Paul’s Episcopal Church\, 209 West Main Street\, Sharpsburg\, MD\, 21782\, United States
CATEGORIES:Scouts
END:VEVENT
BEGIN:VEVENT
DTSTART;TZID=America/New_York:20251219T130000
DTEND;TZID=America/New_York:20251219T160000
DTSTAMP:20260423T013937
CREATED:20251209T184454Z
LAST-MODIFIED:20251209T184454Z
UID:10000251-1766149200-1766160000@stpaulssharpsburg.org
SUMMARY:Reserved
DESCRIPTION:
URL:https://stpaulssharpsburg.org/event/reserved-2/
LOCATION:St. Paul’s Episcopal Church\, 209 West Main Street\, Sharpsburg\, MD\, 21782\, United States
END:VEVENT
BEGIN:VEVENT
DTSTART;TZID=America/New_York:20251221T100000
DTEND;TZID=America/New_York:20251221T110000
DTSTAMP:20260423T013937
CREATED:20251008T134207Z
LAST-MODIFIED:20251029T225135Z
UID:10000012-1766311200-1766314800@stpaulssharpsburg.org
SUMMARY:Holy Eucharist
DESCRIPTION:
URL:https://stpaulssharpsburg.org/event/holy-eucharist/2025-12-21/
LOCATION:St. Paul’s Episcopal Church\, 209 West Main Street\, Sharpsburg\, MD\, 21782\, United States
CATEGORIES:Worship
END:VEVENT
BEGIN:VEVENT
DTSTART;TZID=America/New_York:20251221T113000
DTEND;TZID=America/New_York:20251221T123000
DTSTAMP:20260423T013937
CREATED:20251008T134848Z
LAST-MODIFIED:20251029T225135Z
UID:10000208-1766316600-1766320200@stpaulssharpsburg.org
SUMMARY:Vestry Meeting
DESCRIPTION:
URL:https://stpaulssharpsburg.org/event/vestry-meeting/2025-12-21/
LOCATION:St. Paul’s Episcopal Church\, 209 West Main Street\, Sharpsburg\, MD\, 21782\, United States
CATEGORIES:Meeting
END:VEVENT
BEGIN:VEVENT
DTSTART;TZID=America/New_York:20251223T190000
DTEND;TZID=America/New_York:20251223T200000
DTSTAMP:20260423T013937
CREATED:20251008T134703Z
LAST-MODIFIED:20260106T150511Z
UID:10000104-1766516400-1766520000@stpaulssharpsburg.org
SUMMARY:Bible Study (online)
DESCRIPTION:
URL:https://stpaulssharpsburg.org/event/bible-study-online/2025-12-23/
LOCATION:St. Paul’s Episcopal Church\, 209 West Main Street\, Sharpsburg\, MD\, 21782\, United States
CATEGORIES:Bible Study
END:VEVENT
BEGIN:VEVENT
DTSTART;TZID=America/New_York:20251224T173000
DTEND;TZID=America/New_York:20251224T183000
DTSTAMP:20260423T013937
CREATED:20251111T153310Z
LAST-MODIFIED:20251111T153310Z
UID:10000248-1766597400-1766601000@stpaulssharpsburg.org
SUMMARY:Quiet Prayer Time
DESCRIPTION:St. Paul’s will be open for prayer Wednesdays 5:30-6:30. Stop for quiet devotions or pray with a member of the church\, starts October 8.
URL:https://stpaulssharpsburg.org/event/quiet-prayer-time/2025-12-24/
LOCATION:St. Paul’s Episcopal Church\, 209 West Main Street\, Sharpsburg\, MD\, 21782\, United States
CATEGORIES:Special Events
END:VEVENT
BEGIN:VEVENT
DTSTART;TZID=America/New_York:20251224T190000
DTEND;TZID=America/New_York:20251224T200000
DTSTAMP:20260423T013937
CREATED:20251008T134744Z
LAST-MODIFIED:20260106T150620Z
UID:10000161-1766602800-1766606400@stpaulssharpsburg.org
SUMMARY:Scout Troop 2119
DESCRIPTION:
URL:https://stpaulssharpsburg.org/event/scout-troop-2119/2025-12-24/
LOCATION:St. Paul’s Episcopal Church\, 209 West Main Street\, Sharpsburg\, MD\, 21782\, United States
CATEGORIES:Scouts
END:VEVENT
BEGIN:VEVENT
DTSTART;TZID=America/New_York:20251225T180000
DTEND;TZID=America/New_York:20251225T200000
DTSTAMP:20260423T013937
CREATED:20251008T134946Z
LAST-MODIFIED:20260124T181914Z
UID:10000275-1766685600-1766692800@stpaulssharpsburg.org
SUMMARY:Historical Society
DESCRIPTION:
URL:https://stpaulssharpsburg.org/event/historical-society/2025-12-25/
LOCATION:St. Paul’s Episcopal Church\, 209 West Main Street\, Sharpsburg\, MD\, 21782\, United States
CATEGORIES:Meeting
END:VEVENT
BEGIN:VEVENT
DTSTART;TZID=America/New_York:20251228T100000
DTEND;TZID=America/New_York:20251228T110000
DTSTAMP:20260423T013937
CREATED:20251008T134207Z
LAST-MODIFIED:20251029T225135Z
UID:10000013-1766916000-1766919600@stpaulssharpsburg.org
SUMMARY:Holy Eucharist
DESCRIPTION:
URL:https://stpaulssharpsburg.org/event/holy-eucharist/2025-12-28/
LOCATION:St. Paul’s Episcopal Church\, 209 West Main Street\, Sharpsburg\, MD\, 21782\, United States
CATEGORIES:Worship
END:VEVENT
BEGIN:VEVENT
DTSTART;TZID=America/New_York:20251228T111500
DTEND;TZID=America/New_York:20251228T121500
DTSTAMP:20260423T013937
CREATED:20251008T134513Z
LAST-MODIFIED:20251029T225134Z
UID:10000069-1766920500-1766924100@stpaulssharpsburg.org
SUMMARY:Coffee Hour
DESCRIPTION:
URL:https://stpaulssharpsburg.org/event/coffee-hour-2/2025-12-28/
LOCATION:St. Paul’s Episcopal Church\, 209 West Main Street\, Sharpsburg\, MD\, 21782\, United States
CATEGORIES:Coffee Hour
END:VEVENT
BEGIN:VEVENT
DTSTART;TZID=America/New_York:20251230T190000
DTEND;TZID=America/New_York:20251230T200000
DTSTAMP:20260423T013937
CREATED:20251008T134703Z
LAST-MODIFIED:20260106T150511Z
UID:10000105-1767121200-1767124800@stpaulssharpsburg.org
SUMMARY:Bible Study (online)
DESCRIPTION:
URL:https://stpaulssharpsburg.org/event/bible-study-online/2025-12-30/
LOCATION:St. Paul’s Episcopal Church\, 209 West Main Street\, Sharpsburg\, MD\, 21782\, United States
CATEGORIES:Bible Study
END:VEVENT
BEGIN:VEVENT
DTSTART;TZID=America/New_York:20251231T173000
DTEND;TZID=America/New_York:20251231T183000
DTSTAMP:20260423T013937
CREATED:20251111T153310Z
LAST-MODIFIED:20251111T153310Z
UID:10000249-1767202200-1767205800@stpaulssharpsburg.org
SUMMARY:Quiet Prayer Time
DESCRIPTION:St. Paul’s will be open for prayer Wednesdays 5:30-6:30. Stop for quiet devotions or pray with a member of the church\, starts October 8.
URL:https://stpaulssharpsburg.org/event/quiet-prayer-time/2025-12-31/
LOCATION:St. Paul’s Episcopal Church\, 209 West Main Street\, Sharpsburg\, MD\, 21782\, United States
CATEGORIES:Special Events
END:VEVENT
BEGIN:VEVENT
DTSTART;TZID=America/New_York:20251231T190000
DTEND;TZID=America/New_York:20251231T200000
DTSTAMP:20260423T013937
CREATED:20251008T134744Z
LAST-MODIFIED:20260106T150620Z
UID:10000162-1767207600-1767211200@stpaulssharpsburg.org
SUMMARY:Scout Troop 2119
DESCRIPTION:
URL:https://stpaulssharpsburg.org/event/scout-troop-2119/2025-12-31/
LOCATION:St. Paul’s Episcopal Church\, 209 West Main Street\, Sharpsburg\, MD\, 21782\, United States
CATEGORIES:Scouts
END:VEVENT
BEGIN:VEVENT
DTSTART;TZID=America/New_York:20260104T100000
DTEND;TZID=America/New_York:20260104T110000
DTSTAMP:20260423T013937
CREATED:20251008T134207Z
LAST-MODIFIED:20251029T225135Z
UID:10000014-1767520800-1767524400@stpaulssharpsburg.org
SUMMARY:Holy Eucharist
DESCRIPTION:
URL:https://stpaulssharpsburg.org/event/holy-eucharist/2026-01-04/
LOCATION:St. Paul’s Episcopal Church\, 209 West Main Street\, Sharpsburg\, MD\, 21782\, United States
CATEGORIES:Worship
END:VEVENT
BEGIN:VEVENT
DTSTART;TZID=America/New_York:20260104T111500
DTEND;TZID=America/New_York:20260104T121500
DTSTAMP:20260423T013937
CREATED:20251008T134610Z
LAST-MODIFIED:20251029T225135Z
UID:10000083-1767525300-1767528900@stpaulssharpsburg.org
SUMMARY:ECW Meeting
DESCRIPTION:
URL:https://stpaulssharpsburg.org/event/ecw-meeting/2026-01-04/
LOCATION:St. Paul’s Episcopal Church\, 209 West Main Street\, Sharpsburg\, MD\, 21782\, United States
CATEGORIES:Meeting
END:VEVENT
END:VCALENDAR