BEGIN:VCALENDAR
VERSION:2.0
PRODID:-//Saint Paul&#039;s Episcopal Church - ECPv6.15.20//NONSGML v1.0//EN
CALSCALE:GREGORIAN
METHOD:PUBLISH
X-WR-CALNAME:Saint Paul&#039;s Episcopal Church
X-ORIGINAL-URL:https://stpaulssharpsburg.org
X-WR-CALDESC:Events for Saint Paul&#039;s Episcopal Church
REFRESH-INTERVAL;VALUE=DURATION:PT1H
X-Robots-Tag:noindex
X-PUBLISHED-TTL:PT1H
BEGIN:VTIMEZONE
TZID:America/New_York
BEGIN:DAYLIGHT
TZOFFSETFROM:-0500
TZOFFSETTO:-0400
TZNAME:EDT
DTSTART:20250309T070000
END:DAYLIGHT
BEGIN:STANDARD
TZOFFSETFROM:-0400
TZOFFSETTO:-0500
TZNAME:EST
DTSTART:20251102T060000
END:STANDARD
BEGIN:DAYLIGHT
TZOFFSETFROM:-0500
TZOFFSETTO:-0400
TZNAME:EDT
DTSTART:20260308T070000
END:DAYLIGHT
BEGIN:STANDARD
TZOFFSETFROM:-0400
TZOFFSETTO:-0500
TZNAME:EST
DTSTART:20261101T060000
END:STANDARD
BEGIN:DAYLIGHT
TZOFFSETFROM:-0500
TZOFFSETTO:-0400
TZNAME:EDT
DTSTART:20270314T070000
END:DAYLIGHT
BEGIN:STANDARD
TZOFFSETFROM:-0400
TZOFFSETTO:-0500
TZNAME:EST
DTSTART:20271107T060000
END:STANDARD
END:VTIMEZONE
BEGIN:VEVENT
DTSTART;TZID=America/New_York:20260301T100000
DTEND;TZID=America/New_York:20260301T110000
DTSTAMP:20260421T061621
CREATED:20251008T134207Z
LAST-MODIFIED:20251029T225135Z
UID:10000022-1772359200-1772362800@stpaulssharpsburg.org
SUMMARY:Holy Eucharist
DESCRIPTION:
URL:https://stpaulssharpsburg.org/event/holy-eucharist/2026-03-01/
LOCATION:St. Paul’s Episcopal Church\, 209 West Main Street\, Sharpsburg\, MD\, 21782\, United States
CATEGORIES:Worship
END:VEVENT
BEGIN:VEVENT
DTSTART;TZID=America/New_York:20260308T100000
DTEND;TZID=America/New_York:20260308T110000
DTSTAMP:20260421T061621
CREATED:20251008T134207Z
LAST-MODIFIED:20251029T225135Z
UID:10000023-1772964000-1772967600@stpaulssharpsburg.org
SUMMARY:Holy Eucharist
DESCRIPTION:
URL:https://stpaulssharpsburg.org/event/holy-eucharist/2026-03-08/
LOCATION:St. Paul’s Episcopal Church\, 209 West Main Street\, Sharpsburg\, MD\, 21782\, United States
CATEGORIES:Worship
END:VEVENT
BEGIN:VEVENT
DTSTART;TZID=America/New_York:20260315T100000
DTEND;TZID=America/New_York:20260315T110000
DTSTAMP:20260421T061621
CREATED:20251008T134207Z
LAST-MODIFIED:20251029T225135Z
UID:10000024-1773568800-1773572400@stpaulssharpsburg.org
SUMMARY:Holy Eucharist
DESCRIPTION:
URL:https://stpaulssharpsburg.org/event/holy-eucharist/2026-03-15/
LOCATION:St. Paul’s Episcopal Church\, 209 West Main Street\, Sharpsburg\, MD\, 21782\, United States
CATEGORIES:Worship
END:VEVENT
BEGIN:VEVENT
DTSTART;TZID=America/New_York:20260322T100000
DTEND;TZID=America/New_York:20260322T110000
DTSTAMP:20260421T061621
CREATED:20251008T134207Z
LAST-MODIFIED:20251029T225135Z
UID:10000025-1774173600-1774177200@stpaulssharpsburg.org
SUMMARY:Holy Eucharist
DESCRIPTION:
URL:https://stpaulssharpsburg.org/event/holy-eucharist/2026-03-22/
LOCATION:St. Paul’s Episcopal Church\, 209 West Main Street\, Sharpsburg\, MD\, 21782\, United States
CATEGORIES:Worship
END:VEVENT
BEGIN:VEVENT
DTSTART;TZID=America/New_York:20260329T100000
DTEND;TZID=America/New_York:20260329T110000
DTSTAMP:20260421T061621
CREATED:20251008T134207Z
LAST-MODIFIED:20251029T225135Z
UID:10000026-1774778400-1774782000@stpaulssharpsburg.org
SUMMARY:Holy Eucharist
DESCRIPTION:
URL:https://stpaulssharpsburg.org/event/holy-eucharist/2026-03-29/
LOCATION:St. Paul’s Episcopal Church\, 209 West Main Street\, Sharpsburg\, MD\, 21782\, United States
CATEGORIES:Worship
END:VEVENT
END:VCALENDAR